{
 "currentVersion": 11.3,
 "serviceDescription": "Avinor/ENMR_Ortho_sept_2025",
 "name": "Avinor/ENMR_Ortho_sept_2025",
 "description": "",
 "extent": {
  "xmin": 89880.15307617189,
  "ymin": 1927678.016335547,
  "xmax": 94406.82187617189,
  "ymax": 1928915.0339355469,
  "spatialReference": {
   "wkid": 5114,
   "latestWkid": 5114
  }
 },
 "initialExtent": {
  "xmin": 89880.15307617189,
  "ymin": 1927678.016335547,
  "xmax": 94406.82187617189,
  "ymax": 1928915.0339355469,
  "spatialReference": {
   "wkid": 5114,
   "latestWkid": 5114
  }
 },
 "fullExtent": {
  "xmin": 89880.15307617189,
  "ymin": 1927678.016335547,
  "xmax": 94406.82187617189,
  "ymax": 1928915.0339355469,
  "spatialReference": {
   "wkid": 5114,
   "latestWkid": 5114
  }
 },
 "sortableFields": "",
 "bandCount": 3,
 "pixelType": "U16",
 "minValues": [
  0,
  0,
  0
 ],
 "maxValues": [
  254,
  254,
  254
 ],
 "meanValues": [
  121.06800491333658,
  120.73256068882061,
  107.29618031777645
 ],
 "stdvValues": [
  47.26330063161619,
  44.961855975995555,
  47.746638724361055
 ],
 "hasMultidimensions": false,
 "pixelSizeX": 0.10619999999999999,
 "pixelSizeY": 0.10619999999999181,
 "meanPixelSize": 0.10619999999999591,
 "datasetFormat": "FGDBR",
 "uncompressedSize": 2978906112,
 "blockWidth": 128,
 "blockHeight": 128,
 "compressionType": "LZ77",
 "bandNames": [
  "Band_1",
  "Band_2",
  "Band_3"
 ],
 "allowCopy": true,
 "allowAnalysis": true,
 "itemAccess": false,
 "inspectionCapabilities": "",
 "minPixelSize": 0,
 "maxPixelSize": 0,
 "copyrightText": "",
 "serviceDataType": "esriImageServiceDataTypeGeneric",
 "serviceSourceType": "esriImageServiceSourceTypeDataset",
 "objectIdField": "",
 "fields": [],
 "capabilities": "Mensuration,Image,Metadata",
 "defaultMosaicMethod": "Center",
 "allowedMosaicMethods": "",
 "sortField": "",
 "sortValue": null,
 "sortAscending": true,
 "mosaicOperator": "First",
 "defaultCompressionQuality": 75,
 "defaultResamplingMethod": "Bilinear",
 "maxImageHeight": 4100,
 "maxImageWidth": 15000,
 "allowRasterFunction": true,
 "rasterFunctionInfos": [
  {
   "name": "None",
   "description": "",
   "help": ""
  }
 ],
 "rasterTypeInfos": [
  {
   "name": "Raster Dataset",
   "description": "Supports all ArcGIS Raster Datasets",
   "help": ""
  }
 ],
 "mensurationCapabilities": "Basic",
 "hasHistograms": true,
 "hasColormap": false,
 "hasRasterAttributeTable": false,
 "minScale": 0,
 "maxScale": 0,
 "exportTilesAllowed": false,
 "supportsStatistics": false,
 "supportsAdvancedQueries": false,
 "editFieldsInfo": null,
 "ownershipBasedAccessControlForRasters": null,
 "allowComputeTiePoints": false,
 "useStandardizedQueries": true,
 "advancedQueryCapabilities": {
  "useStandardizedQueries": true,
  "supportsStatistics": false,
  "supportsOrderBy": false,
  "supportsDistinct": false,
  "supportsPagination": false
 },
 "spatialReference": {
  "wkid": 5114,
  "latestWkid": 5114
 },
 "resampling": false
}
