{
 "currentVersion": 11.3,
 "serviceDescription": "Avinor/Ortofoto_17_Desember",
 "name": "Avinor/Ortofoto_17_Desember",
 "description": "",
 "extent": {
  "xmin": 88533.78037568794,
  "ymin": 1927196.8550136134,
  "xmax": 95593.68199848794,
  "ymax": 1929588.4909999997,
  "spatialReference": {
   "wkid": 5114,
   "latestWkid": 5114
  }
 },
 "initialExtent": {
  "xmin": 88533.78037568794,
  "ymin": 1927196.8550136134,
  "xmax": 95593.68199848794,
  "ymax": 1929588.4909999997,
  "spatialReference": {
   "wkid": 5114,
   "latestWkid": 5114
  }
 },
 "fullExtent": {
  "xmin": 88533.78037568794,
  "ymin": 1927196.8550136134,
  "xmax": 95593.68199848794,
  "ymax": 1929588.4909999997,
  "spatialReference": {
   "wkid": 5114,
   "latestWkid": 5114
  }
 },
 "sortableFields": "",
 "bandCount": 3,
 "pixelType": "U16",
 "minValues": [
  0,
  0,
  0
 ],
 "maxValues": [
  254,
  254,
  254
 ],
 "meanValues": [
  108.97883750009379,
  114.37395491291338,
  106.0557716503616
 ],
 "stdvValues": [
  44.63207676300979,
  41.06594643566227,
  40.67576227590568
 ],
 "hasMultidimensions": false,
 "pixelSizeX": 0.10778475759999995,
 "pixelSizeY": 0.10778475759999696,
 "meanPixelSize": 0.10778475759999845,
 "datasetFormat": "FGDBR",
 "uncompressedSize": 8720277000,
 "blockWidth": 128,
 "blockHeight": 128,
 "compressionType": "LZ77",
 "bandNames": [
  "Band_1",
  "Band_2",
  "Band_3"
 ],
 "allowCopy": true,
 "allowAnalysis": true,
 "itemAccess": false,
 "inspectionCapabilities": "",
 "minPixelSize": 0,
 "maxPixelSize": 0,
 "copyrightText": "",
 "serviceDataType": "esriImageServiceDataTypeGeneric",
 "serviceSourceType": "esriImageServiceSourceTypeDataset",
 "objectIdField": "",
 "fields": [],
 "capabilities": "Image,Metadata,Mensuration",
 "defaultMosaicMethod": "Center",
 "allowedMosaicMethods": "",
 "sortField": "",
 "sortValue": null,
 "sortAscending": true,
 "mosaicOperator": "First",
 "defaultCompressionQuality": 75,
 "defaultResamplingMethod": "Bilinear",
 "maxImageHeight": 4100,
 "maxImageWidth": 15000,
 "allowRasterFunction": true,
 "rasterFunctionInfos": [
  {
   "name": "None",
   "description": "",
   "help": ""
  }
 ],
 "rasterTypeInfos": [
  {
   "name": "Raster Dataset",
   "description": "Supports all ArcGIS Raster Datasets",
   "help": ""
  }
 ],
 "mensurationCapabilities": "Basic",
 "hasHistograms": true,
 "hasColormap": false,
 "hasRasterAttributeTable": false,
 "minScale": 0,
 "maxScale": 0,
 "exportTilesAllowed": false,
 "supportsStatistics": false,
 "supportsAdvancedQueries": false,
 "editFieldsInfo": null,
 "ownershipBasedAccessControlForRasters": null,
 "allowComputeTiePoints": false,
 "useStandardizedQueries": true,
 "advancedQueryCapabilities": {
  "useStandardizedQueries": true,
  "supportsStatistics": false,
  "supportsOrderBy": false,
  "supportsDistinct": false,
  "supportsPagination": false
 },
 "spatialReference": {
  "wkid": 5114,
  "latestWkid": 5114
 }
}
