{
 "currentVersion": 11.3,
 "serviceDescription": "Avinor/Ortofoto_30_Okt_v2",
 "name": "Avinor/Ortofoto_30_Okt_v2",
 "description": "",
 "extent": {
  "xmin": 89875.4261474609,
  "ymin": 1926214.2667196288,
  "xmax": 94681.8568674609,
  "ymax": 1928921.185119629,
  "spatialReference": {
   "wkid": 5114,
   "latestWkid": 5114
  }
 },
 "initialExtent": {
  "xmin": 89875.4261474609,
  "ymin": 1926214.2667196288,
  "xmax": 94681.8568674609,
  "ymax": 1928921.185119629,
  "spatialReference": {
   "wkid": 5114,
   "latestWkid": 5114
  }
 },
 "fullExtent": {
  "xmin": 89875.4261474609,
  "ymin": 1926214.2667196288,
  "xmax": 94681.8568674609,
  "ymax": 1928921.185119629,
  "spatialReference": {
   "wkid": 5114,
   "latestWkid": 5114
  }
 },
 "sortableFields": "",
 "bandCount": 3,
 "pixelType": "U16",
 "minValues": [
  0,
  0,
  0
 ],
 "maxValues": [
  254,
  254,
  254
 ],
 "meanValues": [
  118.8522860145186,
  118.9888275897803,
  104.05500605233564
 ],
 "stdvValues": [
  49.397486617841885,
  46.706070675998276,
  48.88863182989592
 ],
 "hasMultidimensions": false,
 "pixelSizeX": 0.10316000000000008,
 "pixelSizeY": 0.10316000000000314,
 "meanPixelSize": 0.10316000000000161,
 "datasetFormat": "FGDBR",
 "uncompressedSize": 7335444480,
 "blockWidth": 128,
 "blockHeight": 128,
 "compressionType": "LZ77",
 "bandNames": [
  "Band_1",
  "Band_2",
  "Band_3"
 ],
 "allowCopy": true,
 "allowAnalysis": true,
 "itemAccess": false,
 "inspectionCapabilities": "",
 "minPixelSize": 0,
 "maxPixelSize": 0,
 "copyrightText": "",
 "serviceDataType": "esriImageServiceDataTypeGeneric",
 "serviceSourceType": "esriImageServiceSourceTypeDataset",
 "objectIdField": "",
 "fields": [],
 "capabilities": "Image,Metadata,Mensuration",
 "defaultMosaicMethod": "Center",
 "allowedMosaicMethods": "",
 "sortField": "",
 "sortValue": null,
 "sortAscending": true,
 "mosaicOperator": "First",
 "defaultCompressionQuality": 75,
 "defaultResamplingMethod": "Bilinear",
 "maxImageHeight": 4100,
 "maxImageWidth": 15000,
 "allowRasterFunction": true,
 "rasterFunctionInfos": [
  {
   "name": "None",
   "description": "",
   "help": ""
  }
 ],
 "rasterTypeInfos": [
  {
   "name": "Raster Dataset",
   "description": "Supports all ArcGIS Raster Datasets",
   "help": ""
  }
 ],
 "mensurationCapabilities": "Basic",
 "hasHistograms": true,
 "hasColormap": false,
 "hasRasterAttributeTable": false,
 "minScale": 0,
 "maxScale": 0,
 "exportTilesAllowed": false,
 "supportsStatistics": false,
 "supportsAdvancedQueries": false,
 "editFieldsInfo": null,
 "ownershipBasedAccessControlForRasters": null,
 "allowComputeTiePoints": false,
 "useStandardizedQueries": true,
 "advancedQueryCapabilities": {
  "useStandardizedQueries": true,
  "supportsStatistics": false,
  "supportsOrderBy": false,
  "supportsDistinct": false,
  "supportsPagination": false
 },
 "spatialReference": {
  "wkid": 5114,
  "latestWkid": 5114
 }
}
