{
 "currentVersion": 11.3,
 "serviceDescription": "Innlandet/Franzefoss_Dronebilde_Des2024",
 "name": "Innlandet/Franzefoss_Dronebilde_Des2024",
 "description": "",
 "extent": {
  "xmin": 261754.59393863296,
  "ymin": 6732758.383539236,
  "xmax": 262806.3279386329,
  "ymax": 6733391.642339236,
  "spatialReference": {
   "wkid": 25833,
   "latestWkid": 25833
  }
 },
 "initialExtent": {
  "xmin": 261754.59393863296,
  "ymin": 6732758.383539236,
  "xmax": 262806.3279386329,
  "ymax": 6733391.642339236,
  "spatialReference": {
   "wkid": 25833,
   "latestWkid": 25833
  }
 },
 "fullExtent": {
  "xmin": 261754.59393863296,
  "ymin": 6732758.383539236,
  "xmax": 262806.3279386329,
  "ymax": 6733391.642339236,
  "spatialReference": {
   "wkid": 25833,
   "latestWkid": 25833
  }
 },
 "sortableFields": "",
 "bandCount": 4,
 "pixelType": "U8",
 "minValues": [
  0,
  0,
  0,
  0
 ],
 "maxValues": [
  255,
  255,
  255,
  255
 ],
 "meanValues": [
  117.40483999941998,
  129.02042884129466,
  135.73979100461406,
  215.74522314409975
 ],
 "stdvValues": [
  70.36565069294686,
  69.83979460443072,
  71.96083200414917,
  91.03457966375255
 ],
 "hasMultidimensions": false,
 "pixelSizeX": 0.023599999999999274,
 "pixelSizeY": 0.023599999999998223,
 "meanPixelSize": 0.023599999999998747,
 "datasetFormat": "FGDBR",
 "uncompressedSize": 4783250580,
 "blockWidth": 128,
 "blockHeight": 128,
 "compressionType": "LZ77",
 "bandNames": [
  "Band_1",
  "Band_2",
  "Band_3",
  "Band_4"
 ],
 "allowCopy": true,
 "allowAnalysis": true,
 "itemAccess": false,
 "inspectionCapabilities": "",
 "minPixelSize": 0,
 "maxPixelSize": 0,
 "copyrightText": "",
 "serviceDataType": "esriImageServiceDataTypeGeneric",
 "serviceSourceType": "esriImageServiceSourceTypeDataset",
 "objectIdField": "",
 "fields": [],
 "capabilities": "Image,Metadata,Mensuration",
 "defaultMosaicMethod": "Center",
 "allowedMosaicMethods": "",
 "sortField": "",
 "sortValue": null,
 "sortAscending": true,
 "mosaicOperator": "First",
 "defaultCompressionQuality": 75,
 "defaultResamplingMethod": "Bilinear",
 "maxImageHeight": 4100,
 "maxImageWidth": 15000,
 "allowRasterFunction": true,
 "rasterFunctionInfos": [
  {
   "name": "None",
   "description": "",
   "help": ""
  }
 ],
 "rasterTypeInfos": [
  {
   "name": "Raster Dataset",
   "description": "Supports all ArcGIS Raster Datasets",
   "help": ""
  }
 ],
 "mensurationCapabilities": "Basic",
 "hasHistograms": true,
 "hasColormap": false,
 "hasRasterAttributeTable": false,
 "minScale": 0,
 "maxScale": 0,
 "exportTilesAllowed": false,
 "supportsStatistics": false,
 "supportsAdvancedQueries": false,
 "editFieldsInfo": null,
 "ownershipBasedAccessControlForRasters": null,
 "allowComputeTiePoints": false,
 "useStandardizedQueries": true,
 "advancedQueryCapabilities": {
  "useStandardizedQueries": true,
  "supportsStatistics": false,
  "supportsOrderBy": false,
  "supportsDistinct": false,
  "supportsPagination": false
 },
 "spatialReference": {
  "wkid": 25833,
  "latestWkid": 25833
 }
}
