{
 "currentVersion": 11.3,
 "serviceDescription": "MindeMyren/MindemyrenAvrenningOrto_UTM32NN2000_tif",
 "name": "MindeMyren/MindemyrenAvrenningOrto_UTM32NN2000_tif",
 "description": "",
 "extent": {
  "xmin": 298043.75829644804,
  "ymin": 6696423.465820243,
  "xmax": 298683.857791948,
  "ymax": 6698440.3581877425,
  "spatialReference": {
   "wkid": 25832,
   "latestWkid": 25832,
   "vcsWkid": 5941,
   "latestVcsWkid": 5941
  }
 },
 "initialExtent": {
  "xmin": 298043.75829644804,
  "ymin": 6696423.465820243,
  "xmax": 298683.857791948,
  "ymax": 6698440.3581877425,
  "spatialReference": {
   "wkid": 25832,
   "latestWkid": 25832,
   "vcsWkid": 5941,
   "latestVcsWkid": 5941
  }
 },
 "fullExtent": {
  "xmin": 298043.75829644804,
  "ymin": 6696423.465820243,
  "xmax": 298683.857791948,
  "ymax": 6698440.3581877425,
  "spatialReference": {
   "wkid": 25832,
   "latestWkid": 25832,
   "vcsWkid": 5941,
   "latestVcsWkid": 5941
  }
 },
 "sortableFields": "",
 "heightModelInfo": {
  "heightModel": "gravity_related_height",
  "vertCRS": "NN2000_height",
  "heightUnit": "meter"
 },
 "bandCount": 4,
 "pixelType": "U8",
 "minValues": [
  0,
  0,
  0,
  0
 ],
 "maxValues": [
  255,
  255,
  255,
  255
 ],
 "meanValues": [
  183.4443413191,
  187.52808444775,
  184.4899002371,
  128.14166295573
 ],
 "stdvValues": [
  79.442400343133,
  72.902936744583,
  76.544600127877,
  127.49838537256
 ],
 "hasMultidimensions": false,
 "pixelSizeX": 0.017841499999999358,
 "pixelSizeY": 0.01784149999999894,
 "meanPixelSize": 0.01784149999999915,
 "datasetFormat": "TIFF",
 "uncompressedSize": 16222861860,
 "blockWidth": 256,
 "blockHeight": 256,
 "compressionType": "LZW",
 "bandNames": [
  "Band_1",
  "Band_2",
  "Band_3",
  "Band_4"
 ],
 "allowCopy": true,
 "allowAnalysis": true,
 "itemAccess": false,
 "inspectionCapabilities": "",
 "minPixelSize": 0,
 "maxPixelSize": 0,
 "copyrightText": "",
 "serviceDataType": "esriImageServiceDataTypeGeneric",
 "serviceSourceType": "esriImageServiceSourceTypeDataset",
 "objectIdField": "",
 "fields": [],
 "capabilities": "Image,Metadata,Mensuration",
 "defaultMosaicMethod": "Center",
 "allowedMosaicMethods": "",
 "sortField": "",
 "sortValue": null,
 "sortAscending": true,
 "mosaicOperator": "First",
 "defaultCompressionQuality": 75,
 "defaultResamplingMethod": "Bilinear",
 "maxImageHeight": 4100,
 "maxImageWidth": 15000,
 "allowRasterFunction": true,
 "rasterFunctionInfos": [
  {
   "name": "None",
   "description": "",
   "help": ""
  }
 ],
 "rasterTypeInfos": [
  {
   "name": "Raster Dataset",
   "description": "Supports all ArcGIS Raster Datasets",
   "help": ""
  }
 ],
 "mensurationCapabilities": "Basic",
 "hasHistograms": true,
 "hasColormap": false,
 "hasRasterAttributeTable": false,
 "minScale": 0,
 "maxScale": 0,
 "exportTilesAllowed": false,
 "supportsStatistics": false,
 "supportsAdvancedQueries": false,
 "editFieldsInfo": null,
 "ownershipBasedAccessControlForRasters": null,
 "allowComputeTiePoints": false,
 "useStandardizedQueries": true,
 "advancedQueryCapabilities": {
  "useStandardizedQueries": true,
  "supportsStatistics": false,
  "supportsOrderBy": false,
  "supportsDistinct": false,
  "supportsPagination": false
 },
 "spatialReference": {
  "wkid": 25832,
  "latestWkid": 25832,
  "vcsWkid": 5941,
  "latestVcsWkid": 5941
 }
}
