View In:
ArcGIS JavaScript
ArcGIS Online Map Viewer
ArcGIS Earth
Service Description: Avinor/Ortofoto_sept_2025
Name: Avinor/Ortofoto_sept_2025
Description:
Single Fused Map Cache: false
Extent:
XMin: 89880.15307617189
YMin: 1927678.016335547
XMax: 94406.82187617189
YMax: 1928915.0339355469
Spatial Reference: 5114
(5114)
Initial Extent:
XMin: 89880.15307617189
YMin: 1927678.016335547
XMax: 94406.82187617189
YMax: 1928915.0339355469
Spatial Reference: 5114
(5114)
Full Extent:
XMin: 89880.15307617189
YMin: 1927678.016335547
XMax: 94406.82187617189
YMax: 1928915.0339355469
Spatial Reference: 5114
(5114)
Pixel Size X: 0.10619999999999999
Pixel Size Y: 0.10619999999999181
Band Count: 3
Pixel Type: U16
RasterFunction Infos: {"rasterFunctionInfos": [{
"name": "None",
"description": "",
"help": ""
}]}
Mensuration Capabilities: Basic
Inspection Capabilities:
Has Histograms: true
Has Colormap: false
Has Multi Dimensions : false
Rendering Rule:
Min Scale: 0
Max Scale: 0
Copyright Text:
Service Data Type: esriImageServiceDataTypeGeneric
Min Values: 0, 0, 0
Max Values: 254, 254, 254
Mean Values: 121.06800491333658, 120.73256068882061, 107.29618031777645
Standard Deviation Values: 47.26330063161619, 44.961855975995555, 47.746638724361055
Object ID Field:
Fields:
None
Default Mosaic Method: Center
Allowed Mosaic Methods:
SortField:
SortValue: null
Mosaic Operator: First
Default Compression Quality: 75
Default Resampling Method: Bilinear
Max Record Count: null
Max Image Height: 4100
Max Image Width: 15000
Max Download Image Count: null
Max Mosaic Image Count: null
Allow Raster Function: true
Allow Copy: true
Allow Analysis: true
Allow Compute TiePoints: false
Supports Statistics: false
Supports Advanced Queries: false
Use StandardizedQueries: true
Raster Type Infos:
Name: Raster Dataset
Description: Supports all ArcGIS Raster Datasets
Help:
Has Raster Attribute Table: false
Edit Fields Info: null
Ownership Based AccessControl For Rasters: null
Child Resources:
Info
Histograms
Statistics
Key Properties
Legend
Raster Function Infos
Supported Operations:
Export Image
Identify
Measure
Compute Histograms
Compute Statistics Histograms
Get Samples
Compute Class Statistics
Query Boundary
Compute Pixel Location
Compute Angles
Validate
Project