View In:
ArcGIS JavaScript
ArcGIS Online Map Viewer
ArcGIS Earth
Service Description: FV60_Tomasgaard_Røyrhus/FV60TR_Ortofoto_2024_IS
Name: FV60_Tomasgaard_Røyrhus/FV60TR_Ortofoto_2024_IS
Description:
Single Fused Map Cache: false
Extent:
XMin: 57013.25
YMin: 6901301
XMax: 69983
YMax: 6905242
Spatial Reference: 25833
(25833)
Initial Extent:
XMin: 57013.25
YMin: 6901301
XMax: 69983
YMax: 6905242
Spatial Reference: 25833
(25833)
Full Extent:
XMin: 57013.25
YMin: 6901301
XMax: 69983
YMax: 6905242
Spatial Reference: 25833
(25833)
Pixel Size X: 0.25
Pixel Size Y: 0.25
Band Count: 3
Pixel Type: U8
RasterFunction Infos: {"rasterFunctionInfos": [{
"name": "None",
"description": "",
"help": ""
}]}
Mensuration Capabilities: Basic
Inspection Capabilities:
Has Histograms: true
Has Colormap: false
Has Multi Dimensions : false
Rendering Rule:
Min Scale: 0
Max Scale: 0
Copyright Text:
Service Data Type: esriImageServiceDataTypeProcessed
Min Values: 4, 5, 2
Max Values: 253, 248, 245
Mean Values: 76.976472376936, 78.438316128363, 57.62119763134
Standard Deviation Values: 27.247096893086, 25.388088646511, 17.3411610006
Object ID Field:
Fields:
None
Default Mosaic Method: Center
Allowed Mosaic Methods:
SortField:
SortValue: null
Mosaic Operator: First
Default Compression Quality: 75
Default Resampling Method: Bilinear
Max Record Count: null
Max Image Height: 4100
Max Image Width: 15000
Max Download Image Count: null
Max Mosaic Image Count: null
Allow Raster Function: true
Allow Copy: true
Allow Analysis: true
Allow Compute TiePoints: false
Supports Statistics: false
Supports Advanced Queries: false
Use StandardizedQueries: true
Raster Type Infos:
Name: Raster Dataset
Description: Supports all ArcGIS Raster Datasets
Help:
Has Raster Attribute Table: false
Edit Fields Info: null
Ownership Based AccessControl For Rasters: null
Child Resources:
Info
Histograms
Statistics
Key Properties
Legend
Raster Function Infos
Supported Operations:
Export Image
Identify
Measure
Compute Histograms
Compute Statistics Histograms
Get Samples
Compute Class Statistics
Query Boundary
Compute Pixel Location
Compute Angles
Validate
Project