View In:
ArcGIS JavaScript
ArcGIS Online Map Viewer
ArcGIS Earth
Service Description: Krs_inggeo/Rockyfor3D_Storeheia_tif
Name: Krs_inggeo/Rockyfor3D_Storeheia_tif
Description:
Single Fused Map Cache: false
Extent:
XMin: 10812.88
YMin: 6492795
XMax: 11541.88
YMax: 6493464
Spatial Reference: 25833
(25833)
VCSWkid(5773)
LatestVCSWkid(5773)
Initial Extent:
XMin: 10812.88
YMin: 6492795
XMax: 11541.88
YMax: 6493464
Spatial Reference: 25833
(25833)
VCSWkid(5773)
LatestVCSWkid(5773)
Full Extent:
XMin: 10812.88
YMin: 6492795
XMax: 11541.88
YMax: 6493464
Spatial Reference: 25833
(25833)
VCSWkid(5773)
LatestVCSWkid(5773)
Pixel Size X: 1.0
Pixel Size Y: 1.0
Band Count: 1
Pixel Type: F32
RasterFunction Infos: {"rasterFunctionInfos": [{
"name": "None",
"description": "",
"help": ""
}]}
Mensuration Capabilities: Basic
Inspection Capabilities:
Has Histograms: true
Has Colormap: false
Has Multi Dimensions : false
Rendering Rule:
Min Scale: 0
Max Scale: 0
Copyright Text:
Service Data Type: esriImageServiceDataTypeGeneric
Min Values: 0
Max Values: 100
Mean Values: 3.1808871418339
Standard Deviation Values: 9.7153327928031
Object ID Field:
Fields:
None
Default Mosaic Method: Center
Allowed Mosaic Methods:
SortField:
SortValue: null
Mosaic Operator: First
Default Compression Quality: 75
Default Resampling Method: Bilinear
Max Record Count: null
Max Image Height: 4100
Max Image Width: 15000
Max Download Image Count: null
Max Mosaic Image Count: null
Allow Raster Function: true
Allow Copy: true
Allow Analysis: true
Allow Compute TiePoints: false
Supports Statistics: false
Supports Advanced Queries: false
Use StandardizedQueries: true
Raster Type Infos:
Name: Raster Dataset
Description: Supports all ArcGIS Raster Datasets
Help:
Has Raster Attribute Table: false
Edit Fields Info: null
Ownership Based AccessControl For Rasters: null
Child Resources:
Info
Histograms
Statistics
Key Properties
Legend
Raster Function Infos
Supported Operations:
Export Image
Identify
Measure
Compute Histograms
Compute Statistics Histograms
Get Samples
Compute Class Statistics
Query Boundary
Compute Pixel Location
Compute Angles
Validate
Project