View In:
ArcGIS JavaScript
ArcGIS Online Map Viewer
ArcGIS Earth
Service Description: Avinor/Ortofoto_17_Desember
Name: Avinor/Ortofoto_17_Desember
Description:
Single Fused Map Cache: false
Extent:
XMin: 88533.78037568794
YMin: 1927196.8550136134
XMax: 95593.68199848794
YMax: 1929588.4909999997
Spatial Reference: 5114
(5114)
Initial Extent:
XMin: 88533.78037568794
YMin: 1927196.8550136134
XMax: 95593.68199848794
YMax: 1929588.4909999997
Spatial Reference: 5114
(5114)
Full Extent:
XMin: 88533.78037568794
YMin: 1927196.8550136134
XMax: 95593.68199848794
YMax: 1929588.4909999997
Spatial Reference: 5114
(5114)
Pixel Size X: 0.10778475759999995
Pixel Size Y: 0.10778475759999696
Band Count: 3
Pixel Type: U16
RasterFunction Infos: {"rasterFunctionInfos": [{
"name": "None",
"description": "",
"help": ""
}]}
Mensuration Capabilities: Basic
Inspection Capabilities:
Has Histograms: true
Has Colormap: false
Has Multi Dimensions : false
Rendering Rule:
Min Scale: 0
Max Scale: 0
Copyright Text:
Service Data Type: esriImageServiceDataTypeGeneric
Min Values: 0, 0, 0
Max Values: 254, 254, 254
Mean Values: 108.97883750009379, 114.37395491291338, 106.0557716503616
Standard Deviation Values: 44.63207676300979, 41.06594643566227, 40.67576227590568
Object ID Field:
Fields:
None
Default Mosaic Method: Center
Allowed Mosaic Methods:
SortField:
SortValue: null
Mosaic Operator: First
Default Compression Quality: 75
Default Resampling Method: Bilinear
Max Record Count: null
Max Image Height: 4100
Max Image Width: 15000
Max Download Image Count: null
Max Mosaic Image Count: null
Allow Raster Function: true
Allow Copy: true
Allow Analysis: true
Allow Compute TiePoints: false
Supports Statistics: false
Supports Advanced Queries: false
Use StandardizedQueries: true
Raster Type Infos:
Name: Raster Dataset
Description: Supports all ArcGIS Raster Datasets
Help:
Has Raster Attribute Table: false
Edit Fields Info: null
Ownership Based AccessControl For Rasters: null
Child Resources:
Info
Histograms
Statistics
Key Properties
Legend
Raster Function Infos
Supported Operations:
Export Image
Identify
Measure
Compute Histograms
Compute Statistics Histograms
Get Samples
Compute Class Statistics
Query Boundary
Compute Pixel Location
Compute Angles
Validate
Project