View In:
ArcGIS JavaScript
ArcGIS Online Map Viewer
ArcGIS Earth
Service Description: Avinor/Ortofoto_30_Okt_v2
Name: Avinor/Ortofoto_30_Okt_v2
Description:
Single Fused Map Cache: false
Extent:
XMin: 89875.4261474609
YMin: 1926214.2667196288
XMax: 94681.8568674609
YMax: 1928921.185119629
Spatial Reference: 5114
(5114)
Initial Extent:
XMin: 89875.4261474609
YMin: 1926214.2667196288
XMax: 94681.8568674609
YMax: 1928921.185119629
Spatial Reference: 5114
(5114)
Full Extent:
XMin: 89875.4261474609
YMin: 1926214.2667196288
XMax: 94681.8568674609
YMax: 1928921.185119629
Spatial Reference: 5114
(5114)
Pixel Size X: 0.10316000000000008
Pixel Size Y: 0.10316000000000314
Band Count: 3
Pixel Type: U16
RasterFunction Infos: {"rasterFunctionInfos": [{
"name": "None",
"description": "",
"help": ""
}]}
Mensuration Capabilities: Basic
Inspection Capabilities:
Has Histograms: true
Has Colormap: false
Has Multi Dimensions : false
Rendering Rule:
Min Scale: 0
Max Scale: 0
Copyright Text:
Service Data Type: esriImageServiceDataTypeGeneric
Min Values: 0, 0, 0
Max Values: 254, 254, 254
Mean Values: 118.8522860145186, 118.9888275897803, 104.05500605233564
Standard Deviation Values: 49.397486617841885, 46.706070675998276, 48.88863182989592
Object ID Field:
Fields:
None
Default Mosaic Method: Center
Allowed Mosaic Methods:
SortField:
SortValue: null
Mosaic Operator: First
Default Compression Quality: 75
Default Resampling Method: Bilinear
Max Record Count: null
Max Image Height: 4100
Max Image Width: 15000
Max Download Image Count: null
Max Mosaic Image Count: null
Allow Raster Function: true
Allow Copy: true
Allow Analysis: true
Allow Compute TiePoints: false
Supports Statistics: false
Supports Advanced Queries: false
Use StandardizedQueries: true
Raster Type Infos:
Name: Raster Dataset
Description: Supports all ArcGIS Raster Datasets
Help:
Has Raster Attribute Table: false
Edit Fields Info: null
Ownership Based AccessControl For Rasters: null
Child Resources:
Info
Histograms
Statistics
Key Properties
Legend
Raster Function Infos
Supported Operations:
Export Image
Identify
Measure
Compute Histograms
Compute Statistics Histograms
Get Samples
Compute Class Statistics
Query Boundary
Compute Pixel Location
Compute Angles
Validate
Project