View In:
ArcGIS JavaScript
ArcGIS Online Map Viewer
ArcGIS Earth
Service Description: Innlandet/Franzefoss_Dronebilde_Des2024
Name: Innlandet/Franzefoss_Dronebilde_Des2024
Description:
Single Fused Map Cache: false
Extent:
XMin: 261754.59393863296
YMin: 6732758.383539236
XMax: 262806.3279386329
YMax: 6733391.642339236
Spatial Reference: 25833
(25833)
Initial Extent:
XMin: 261754.59393863296
YMin: 6732758.383539236
XMax: 262806.3279386329
YMax: 6733391.642339236
Spatial Reference: 25833
(25833)
Full Extent:
XMin: 261754.59393863296
YMin: 6732758.383539236
XMax: 262806.3279386329
YMax: 6733391.642339236
Spatial Reference: 25833
(25833)
Pixel Size X: 0.023599999999999274
Pixel Size Y: 0.023599999999998223
Band Count: 4
Pixel Type: U8
RasterFunction Infos: {"rasterFunctionInfos": [{
"name": "None",
"description": "",
"help": ""
}]}
Mensuration Capabilities: Basic
Inspection Capabilities:
Has Histograms: true
Has Colormap: false
Has Multi Dimensions : false
Rendering Rule:
Min Scale: 0
Max Scale: 0
Copyright Text:
Service Data Type: esriImageServiceDataTypeGeneric
Min Values: 0, 0, 0, 0
Max Values: 255, 255, 255, 255
Mean Values: 117.40483999941998, 129.02042884129466, 135.73979100461406, 215.74522314409975
Standard Deviation Values: 70.36565069294686, 69.83979460443072, 71.96083200414917, 91.03457966375255
Object ID Field:
Fields:
None
Default Mosaic Method: Center
Allowed Mosaic Methods:
SortField:
SortValue: null
Mosaic Operator: First
Default Compression Quality: 75
Default Resampling Method: Bilinear
Max Record Count: null
Max Image Height: 4100
Max Image Width: 15000
Max Download Image Count: null
Max Mosaic Image Count: null
Allow Raster Function: true
Allow Copy: true
Allow Analysis: true
Allow Compute TiePoints: false
Supports Statistics: false
Supports Advanced Queries: false
Use StandardizedQueries: true
Raster Type Infos:
Name: Raster Dataset
Description: Supports all ArcGIS Raster Datasets
Help:
Has Raster Attribute Table: false
Edit Fields Info: null
Ownership Based AccessControl For Rasters: null
Child Resources:
Info
Histograms
Statistics
Key Properties
Legend
Raster Function Infos
Supported Operations:
Export Image
Identify
Measure
Compute Histograms
Compute Statistics Histograms
Get Samples
Compute Class Statistics
Query Boundary
Compute Pixel Location
Compute Angles
Validate
Project