View In:
ArcGIS JavaScript
ArcGIS Online Map Viewer
ArcGIS Earth
Service Description: MindeMyren/MindemyrenAvrenningOrto_UTM32NN2000_tif
Name: MindeMyren/MindemyrenAvrenningOrto_UTM32NN2000_tif
Description:
Single Fused Map Cache: false
Extent:
XMin: 298043.75829644804
YMin: 6696423.465820243
XMax: 298683.857791948
YMax: 6698440.3581877425
Spatial Reference: 25832
(25832)
VCSWkid(5941)
LatestVCSWkid(5941)
Initial Extent:
XMin: 298043.75829644804
YMin: 6696423.465820243
XMax: 298683.857791948
YMax: 6698440.3581877425
Spatial Reference: 25832
(25832)
VCSWkid(5941)
LatestVCSWkid(5941)
Full Extent:
XMin: 298043.75829644804
YMin: 6696423.465820243
XMax: 298683.857791948
YMax: 6698440.3581877425
Spatial Reference: 25832
(25832)
VCSWkid(5941)
LatestVCSWkid(5941)
Pixel Size X: 0.017841499999999358
Pixel Size Y: 0.01784149999999894
Band Count: 4
Pixel Type: U8
RasterFunction Infos: {"rasterFunctionInfos": [{
"name": "None",
"description": "",
"help": ""
}]}
Mensuration Capabilities: Basic
Inspection Capabilities:
Has Histograms: true
Has Colormap: false
Has Multi Dimensions : false
Rendering Rule:
Min Scale: 0
Max Scale: 0
Copyright Text:
Service Data Type: esriImageServiceDataTypeGeneric
Min Values: 0, 0, 0, 0
Max Values: 255, 255, 255, 255
Mean Values: 183.4443413191, 187.52808444775, 184.4899002371, 128.14166295573
Standard Deviation Values: 79.442400343133, 72.902936744583, 76.544600127877, 127.49838537256
Object ID Field:
Fields:
None
Default Mosaic Method: Center
Allowed Mosaic Methods:
SortField:
SortValue: null
Mosaic Operator: First
Default Compression Quality: 75
Default Resampling Method: Bilinear
Max Record Count: null
Max Image Height: 4100
Max Image Width: 15000
Max Download Image Count: null
Max Mosaic Image Count: null
Allow Raster Function: true
Allow Copy: true
Allow Analysis: true
Allow Compute TiePoints: false
Supports Statistics: false
Supports Advanced Queries: false
Use StandardizedQueries: true
Raster Type Infos:
Name: Raster Dataset
Description: Supports all ArcGIS Raster Datasets
Help:
Has Raster Attribute Table: false
Edit Fields Info: null
Ownership Based AccessControl For Rasters: null
Child Resources:
Info
Histograms
Statistics
Key Properties
Legend
Raster Function Infos
Supported Operations:
Export Image
Identify
Measure
Compute Histograms
Compute Statistics Histograms
Get Samples
Compute Class Statistics
Query Boundary
Compute Pixel Location
Compute Angles
Validate
Project